Workbook
Name Unique_Contractors: Tables!#REF!

Sheet Instructions
B2: Better Stands - Onsite Assessment
B5: Better Stands is uniting the events and exhibitions industry to adopt reusable stands, ensuring smarter, safer and more sustainable solutions globally. Better Stands is underpinned by a framework, consisting of a 10-point checklist, for assessing stands according to how reusable they are. All stands are assessed as either Single Use, Bronze, Silver or Gold.
B7: What is the document for? This document is a template for you to complete your onsite assessment of each space only stand during the dismantle of your event. Depending on whether they reuse the elements of the stand or not at another event, they will receive a rating. The exception to this is for element 9 (flooring) and 10 (graphics and decorative items), where recycling is accepted. The onsite assessment is very important in helping us establish which stands are Single Use, so we can engage with those exhibitors and their contractors after the show. The ratings also provide us an indepth understanding of the exhibitor waste at the show, which we track against our 2030 zero waste goal.
B9: How to complete the onsite assessment: The onsite assessment should be completed by a trained Better Stands Assessor (either a third party or an internal colleague who has received the Assessor training. Please follow the steps provided to complete the onsite assessment. 1. We have broken each applicable (space only/raw space) exhibitor stand into 10 elements. Using the checklist and the definitions provided, please provide each stand element with a rating based on whether it is re-usable or not re-usable. Use 'Y' for re-usable or recyclable (in the case of gold components) and N for 'not re-usable'. If the stand doesn't contain that particular element, please state 'N/A' 2. Try to complete the 10 box checklist for each space only/raw space stand, but if this is not viable, please focus on the first four that make up 'bronze' 3. The assessor is expected to observe the practices adopted by contractors during the show dismantle and use this as evidence within their observations. If the material appears to be dismantled and stored in a neat and non-disructive way, they can assume the component is taken away to be stored by the contractor and re-used at a later date. 4. For areas where they are unsure, the floor manager shall engage with contractors and enquire about the re-usability of the stand components and ask where the materials are taken to post show, and what they will be re-used for. 5. Every stand component must be given a rating. If there is any reason as to why you cannot give a rating, please provide details in the 'additional comments/observations' section in column N.
B11: Understanding the Dashboard and Analysis tabs You can now see your event's progress in real time by looking at the Dashboard and Analysis tabs in this sheet. The Dashboard tab shows your progress from Better Stands this year. Across Informa we measure an event's success in terms of waste production using the metric: 'percent of Single Use stands per net m2'. If your figure is 10% and under, you have a relatively low percentage of Single Use stands per net m2 at your event, 11-30% would be a medium amount of Single Use stands and 31%+ would be considered high. This number is typically simular across the region you're based in. Your Analysis tab provides deeper insight into where to focus for your next event. It asks questions like, where is the majority of your Single Use stand m2 coming from in terms of stand sizes? Is it more beneficial to implement an initiative to target smaller stands or speak to a handful of larger Single Use exhibitors for the same effect. Is there a particular contractor building a large portion of Single Use stands at your event that you could speak to? All of these can help formulate your Better Stands strategy for next year's event.

Sheet Onsite Assessment
B2: Better Stands - Onsite Assessment Template | G2: Total number of stands (including shell, pipe and drape, in-lines) | H2: Net m2 of all stands (including shell, pipe and drape, in-lines) | K2: Key
B3: V3.1 18.06.2025 | K3: Y = Element is Reused or Recycled Post Event
A4: Name of Show: | B4: Please Complete | K4: N = Element is NOT reused or Recycled Post Event
A5: Location: | B5: Please Complete | K5: N/A = The stand did not have this element.
A6: Auditing Company: | B6: Please Complete
A7: Is this a sample? | B7: Please Complete
A8: Date of Audit: | B8: Please Complete | G8: These sections must be completed for every Space Only / Raw Space Stand to meet Fundamental 8 - Bronze
A11: Company and Team Member Marking Stands | B11: Hall | C11: Exhibitor Name | D11: Contractor Name | E11: Stand Number | F11: Total Stand Size M2 | G11: Stand Structure & Walls (e.g. Structure or framework of the stand, walls, panels for meeting rooms, backdrop.) | H11: Platform / Raised Flooring (Structure of flooring excluding surface covering, e.g. carpet) | I11: Furniture & Equipment (Counters, chairs, tables, sofa, coffee table, cabinet, flyer stand, LED walls, TV, AV equipment etc.) | J11: Lighting (e.g. All kinds of lightings in the stand and showcases) | K11: Fascia and/or Overhead Signage (Overhead signage or branding, Fascia, company logo on top of the stand structure) | L11: Rigged Structure (Any rigged structure including lighting gantries or other structural elements.) | M11: Ceiling (Any form of ceiling e.g. fabric ceiling, solid ceiling for lights or stand support | N11: Display Facilities (Built-in or Detachable product display cabinets, Lightboxes etc) | O11: Flooring (e.g. carpeting, floor tiling, HDF coverings) | P11: Graphics & Decorative Items (e.g. Stand graphics that are wall mounted or floor standing not overhead and any other decorative items such as plants & flowers, models or ornaments) | Q11: Exhibitor Result | R11: Breakdown Comments / Observations | S11: Build Up Comments / Observations | T11: Exhibitor Contact Email | U11: Contractor email
A12: Example | B12: 4 | C12: Example1 | D12: Contractor 1 | E12: 4A181 | F12: 30 | G12: N/A | H12: N/A | I12: N/A | J12: N/A | K12: N | L12: N/A | M12: N/A | N12: Y | O12: N | P12: Y | Q12: {=IF(COUNTA(G12:P12)=0,"",_xlfn.IFS((COUNTIF(G12:P12,"Y")+COUNTIF(G12:P12,"N/A"))=10,"Gold",(COUNTIF(G12:N12,"Y")+COUNTIF(G12:N12,"N/A"))=8,"Silver",COUNTIF(G12:J12,"Y")+COUNTIF(G12:J12,"N/A")=4,"Bronze",(COUNTIF(G12:J12,"Y")+COUNTIF(G12:J12,"N/A"))<4,"Single Use"))} -> Bronze | R12: Walling and floor dismantled and palletised but not for reuse | S12: Clipboard batons with chipboard panels laid on top and secured by nail gun. Whilst there are core stand elements that could be reused, vinyl has been affixed all over and lots cut to size.led lights. Vinyl graphics and laminate floor graphics
A13: Example | B13: 4 | C13: Example | D13: Example | E13: 4B20 | F13: 19 | G13: N/A | H13: N/A | I13: N/A | J13: N/A | K13: N | L13: Y | M13: N/A | N13: Y | O13: N | P13: Y | Q13: {=IF(COUNTA(G13:P13)=0,"",_xlfn.IFS((COUNTIF(G13:P13,"Y")+COUNTIF(G13:P13,"N/A"))=10,"Gold",(COUNTIF(G13:N13,"Y")+COUNTIF(G13:N13,"N/A"))=8,"Silver",COUNTIF(G13:J13,"Y")+COUNTIF(G13:J13,"N/A")=4,"Bronze",(COUNTIF(G13:J13,"Y")+COUNTIF(G13:J13,"N/A"))<4,"Single Use"))} -> Bronze | R13: systematically dismantled and repalletised | S13: Chipboard batons and chipboards sheets that havent been cut & laminate flooring installed ontop - check on breakdown for method of removal. Shell scheme walling. Led lights. Trilateral truss with modular frame and graphic. Need to check in breakdown if keeping graphic. Some walling wrapped with pvc material. Door. Moveable counters, cupboards and artificial plants
A14: Example | B14: 4 | C14: Example | D14: Example3 | E14: 4B30 | F14: 38 | G14: N/A | H14: N/A | I14: N/A | J14: N/A | K14: N | L14: Y | M14: N/A | N14: Y | O14: N | P14: N | Q14: {=IF(COUNTA(G14:P14)=0,"",_xlfn.IFS((COUNTIF(G14:P14,"Y")+COUNTIF(G14:P14,"N/A"))=10,"Gold",(COUNTIF(G14:N14,"Y")+COUNTIF(G14:N14,"N/A"))=8,"Silver",COUNTIF(G14:J14,"Y")+COUNTIF(G14:J14,"N/A")=4,"Bronze",(COUNTIF(G14:J14,"Y")+COUNTIF(G14:J14,"N/A"))<4,"Single Use"))} -> Bronze | R14: Stones thrown away laminate flooring removed, stacked neatly but left behind | S14: reusable wooden blocks with chipboard sheets. Laminate flooring cut to size. LED lighting around the platform and on the trilite truss. Stockwalling being used. Rigged banner using a metal modualr system with fabric banner( check on breakdow). Non recyable orange carpet in mtg rooms as stretched to fit. PVC graphics on wall non recyclable
A15: Example | B15: 4 | C15: Example | D15: Example | E15: 4A10 | F15: 100 | G15: N/A | H15: N/A | I15: N/A | J15: N/A | K15: N | L15: Y | M15: N/A | N15: Y | O15: Y | P15: Y | Q15: {=IF(COUNTA(G15:P15)=0,"",_xlfn.IFS((COUNTIF(G15:P15,"Y")+COUNTIF(G15:P15,"N/A"))=10,"Gold",(COUNTIF(G15:N15,"Y")+COUNTIF(G15:N15,"N/A"))=8,"Silver",COUNTIF(G15:J15,"Y")+COUNTIF(G15:J15,"N/A")=4,"Bronze",(COUNTIF(G15:J15,"Y")+COUNTIF(G15:J15,"N/A"))<4,"Single Use"))} -> Bronze | R15: Flooring taken up carefully and repalletised as was walling and units | S15: Wood batons with laminated chip sheets that have previously been used. Wooden frame with large white sheets of laminated chipboard that has been held together by the metal brackets. The contractor will repurpose the white sheets as back of house on the next show as they will have graphics on. Aluminium modular frame rented by polish company. and graphic will be reused for next show as first time using new design. Led lighting. Prefab door. Vinyl graphics on walls. Hired in furniture
A16: Example | B16: 4 | C16: Example | D16: Example | E16: 4A183 | F16: 10 | G16: Y | H16: Y | I16: Y | J16: Y | K16: Y | L16: N/A | M16: N/A | N16: Y | O16: Y | P16: Y | Q16: {=IF(COUNTA(G16:P16)=0,"",_xlfn.IFS((COUNTIF(G16:P16,"Y")+COUNTIF(G16:P16,"N/A"))=10,"Gold",(COUNTIF(G16:N16,"Y")+COUNTIF(G16:N16,"N/A"))=8,"Silver",COUNTIF(G16:J16,"Y")+COUNTIF(G16:J16,"N/A")=4,"Bronze",(COUNTIF(G16:J16,"Y")+COUNTIF(G16:J16,"N/A"))<4,"Single Use"))} -> Gold | R16: Stand carefully taken apart and palletised. Lino rolled | S16: Laminate floor with Ali nosing. Prefabricated stand system with all elements reusable. Mixed lighting. Led and Ied lamp with bulb
A17: Example | B17: 4 | C17: Example | D17: Example | E17: 4B51 | F17: 19 | G17: Y | H17: Y | I17: Y | J17: Y | K17: Y | L17: Y | M17: N/A | N17: Y | O17: Y | P17: Y | Q17: {=IF(COUNTA(G17:P17)=0,"",_xlfn.IFS((COUNTIF(G17:P17,"Y")+COUNTIF(G17:P17,"N/A"))=10,"Gold",(COUNTIF(G17:N17,"Y")+COUNTIF(G17:N17,"N/A"))=8,"Silver",COUNTIF(G17:J17,"Y")+COUNTIF(G17:J17,"N/A")=4,"Bronze",(COUNTIF(G17:J17,"Y")+COUNTIF(G17:J17,"N/A"))<4,"Single Use"))} -> Gold | R17: Dressing down material was ripped off | S17: Reusable wooden cassette flooring. Laminate squares reused repeatedly. Client has asked them to reuse all stand elements at every show. All lights led. Artificial plants used.cubic metal modular system with reusable graphics panels
A18: Example | B18: 4 | C18: Example | D18: Example | E18: 4B62 | F18: 38 | G18: Y | H18: Y | I18: Y | J18: Y | K18: Y | L18: Y | M18: N/A | N18: Y | O18: Y | P18: Y | Q18: {=IF(COUNTA(G18:P18)=0,"",_xlfn.IFS((COUNTIF(G18:P18,"Y")+COUNTIF(G18:P18,"N/A"))=10,"Gold",(COUNTIF(G18:N18,"Y")+COUNTIF(G18:N18,"N/A"))=8,"Silver",COUNTIF(G18:J18,"Y")+COUNTIF(G18:J18,"N/A")=4,"Bronze",(COUNTIF(G18:J18,"Y")+COUNTIF(G18:J18,"N/A"))<4,"Single Use"))} -> Gold | R18: Systematically dismantled and repalletised. Graphic panels rolled and protected | S18: Chipboard batons and sheets platform check on breakdown. rigged aluminium sign with graphic. With led lighting. Previously usedLaminate flooring. Modular stand system with reusable material panels and on brand graphics. Led lights and door. Real plants.
A19: Example | B19: 4 | C19: Example | D19: Example | E19: 4B62 | F19: 49 | G19: Y | H19: Y | I19: Y | J19: Y | K19: Y | L19: Y | M19: N/A | N19: Y | O19: Y | P19: Y | Q19: {=IF(COUNTA(G19:P19)=0,"",_xlfn.IFS((COUNTIF(G19:P19,"Y")+COUNTIF(G19:P19,"N/A"))=10,"Gold",(COUNTIF(G19:N19,"Y")+COUNTIF(G19:N19,"N/A"))=8,"Silver",COUNTIF(G19:J19,"Y")+COUNTIF(G19:J19,"N/A")=4,"Bronze",(COUNTIF(G19:J19,"Y")+COUNTIF(G19:J19,"N/A"))<4,"Single Use"))} -> Gold
A20: Example | B20: 4 | C20: Example | D20: Example | E20: 4B60 | F20: 10 | G20: N/A | H20: N/A | I20: N/A | J20: N/A | K20: Y | L20: Y | M20: N/A | N20: Y | P20: Y | Q20: {=IF(COUNTA(G20:P20)=0,"",_xlfn.IFS((COUNTIF(G20:P20,"Y")+COUNTIF(G20:P20,"N/A"))=10,"Gold",(COUNTIF(G20:N20,"Y")+COUNTIF(G20:N20,"N/A"))=8,"Silver",COUNTIF(G20:J20,"Y")+COUNTIF(G20:J20,"N/A")=4,"Bronze",(COUNTIF(G20:J20,"Y")+COUNTIF(G20:J20,"N/A"))<4,"Single Use"))} -> Silver | R20: Artificial plants. Wooden decorative items taken down with care. Carpet ripped up and cut. Walling, and platforms systematically removed and repalletised | S20: Metal and plywood cassette flooring platform. Trilite rig with LED lights and a aluminium modular frame with stretched graphics x 3 rigged, contractor washes and reuses. Lino. Stock walling wrapped with vinyl. Door. Reused artificial plants and decorative elements
A21: Example | B21: 4 | C21: Example | D21: Example | E21: 4B60 | F21: 19 | G21: N/A | H21: N/A | I21: N/A | J21: N/A | K21: Y | L21: Y | M21: N/A | N21: Y | P21: Y | Q21: {=IF(COUNTA(G21:P21)=0,"",_xlfn.IFS((COUNTIF(G21:P21,"Y")+COUNTIF(G21:P21,"N/A"))=10,"Gold",(COUNTIF(G21:N21,"Y")+COUNTIF(G21:N21,"N/A"))=8,"Silver",COUNTIF(G21:J21,"Y")+COUNTIF(G21:J21,"N/A")=4,"Bronze",(COUNTIF(G21:J21,"Y")+COUNTIF(G21:J21,"N/A"))<4,"Single Use"))} -> Silver
A22: Example | B22: 4 | C22: Example | D22: Example | E22: 4B51 | F22: 38 | G22: N/A | H22: N/A | I22: N/A | J22: N/A | K22: Y | L22: Y | M22: N/A | N22: Y | P22: Y | Q22: {=IF(COUNTA(G22:P22)=0,"",_xlfn.IFS((COUNTIF(G22:P22,"Y")+COUNTIF(G22:P22,"N/A"))=10,"Gold",(COUNTIF(G22:N22,"Y")+COUNTIF(G22:N22,"N/A"))=8,"Silver",COUNTIF(G22:J22,"Y")+COUNTIF(G22:J22,"N/A")=4,"Bronze",(COUNTIF(G22:J22,"Y")+COUNTIF(G22:J22,"N/A"))<4,"Single Use"))} -> Silver
A23: Example | B23: 4 | C23: Example | D23: Example | E23: 4B51 | F23: 56 | G23: N/A | H23: N/A | I23: N/A | J23: N/A | K23: Y | L23: Y | M23: N/A | N23: Y | P23: Y | Q23: {=IF(COUNTA(G23:P23)=0,"",_xlfn.IFS((COUNTIF(G23:P23,"Y")+COUNTIF(G23:P23,"N/A"))=10,"Gold",(COUNTIF(G23:N23,"Y")+COUNTIF(G23:N23,"N/A"))=8,"Silver",COUNTIF(G23:J23,"Y")+COUNTIF(G23:J23,"N/A")=4,"Bronze",(COUNTIF(G23:J23,"Y")+COUNTIF(G23:J23,"N/A"))<4,"Single Use"))} -> Silver
A24: Example | B24: 4 | C24: Example | D24: Contractor 2 | E24: 4A130 | F24: 14 | H24: N/A | I24: N/A | J24: N/A | K24: N | L24: N | M24: N/A | N24: N | O24: N | P24: N | Q24: {=IF(COUNTA(G24:P24)=0,"",_xlfn.IFS((COUNTIF(G24:P24,"Y")+COUNTIF(G24:P24,"N/A"))=10,"Gold",(COUNTIF(G24:N24,"Y")+COUNTIF(G24:N24,"N/A"))=8,"Silver",COUNTIF(G24:J24,"Y")+COUNTIF(G24:J24,"N/A")=4,"Bronze",(COUNTIF(G24:J24,"Y")+COUNTIF(G24:J24,"N/A"))<4,"Single Use"))} -> Single Use | R24: Door kept. Flooring ripped up to put round furniture. Walling scrapped | S24: Chipboard flooring with mfd walling that had been prefabricated but with filler. Led lights. Rented in cabinets and furniture
A25: Example | B25: 4 | C25: Example | D25: Contractor 2 | E25: 4A100 | F25: 19 | G25: N/A | H25: N/A | I25: N/A | J25: N | K25: Y | L25: N/A | M25: N/A | N25: Y | O25: N | P25: Y | Q25: Single Use | R25: Systematically dismantled and packed | S25: Wooden & metal cassette platform system. Hessian backed carpet none recyable . Modular system with reusable stretch panels. Door, counters and planters all reusable as is furniture. Real plants in soil
A26: Example | B26: 4 | C26: Example | D26: Contractor 3 | E26: 4Z130 | F26: 10 | G26: N | H26: N/A | I26: N/A | J26: N/A | K26: N | L26: N | M26: N/A | N26: N | O26: N | P26: N | Q26: {=IF(COUNTA(G26:P26)=0,"",_xlfn.IFS((COUNTIF(G26:P26,"Y")+COUNTIF(G26:P26,"N/A"))=10,"Gold",(COUNTIF(G26:N26,"Y")+COUNTIF(G26:N26,"N/A"))=8,"Silver",COUNTIF(G26:J26,"Y")+COUNTIF(G26:J26,"N/A")=4,"Bronze",(COUNTIF(G26:J26,"Y")+COUNTIF(G26:J26,"N/A"))<4,"Single Use"))} -> Single Use
A27: Example | B27: 4 | C27: Example | D27: Contractor 4 | E27: 4Z130 | F27: 10 | G27: N | H27: N/A | I27: N/A | J27: N/A | K27: N | L27: N | M27: N/A | N27: N | O27: N | P27: N | Q27: {=IF(COUNTA(G27:P27)=0,"",_xlfn.IFS((COUNTIF(G27:P27,"Y")+COUNTIF(G27:P27,"N/A"))=10,"Gold",(COUNTIF(G27:N27,"Y")+COUNTIF(G27:N27,"N/A"))=8,"Silver",COUNTIF(G27:J27,"Y")+COUNTIF(G27:J27,"N/A")=4,"Bronze",(COUNTIF(G27:J27,"Y")+COUNTIF(G27:J27,"N/A"))<4,"Single Use"))} -> Single Use
A28: Example | B28: 4 | C28: Example | D28: Contractor 5 | E28: 4Z130A | F28: 10 | G28: N | H28: N/A | I28: N/A | J28: N/A | K28: N | L28: N | M28: N/A | N28: N | O28: N | P28: N | Q28: {=IF(COUNTA(G28:P28)=0,"",_xlfn.IFS((COUNTIF(G28:P28,"Y")+COUNTIF(G28:P28,"N/A"))=10,"Gold",(COUNTIF(G28:N28,"Y")+COUNTIF(G28:N28,"N/A"))=8,"Silver",COUNTIF(G28:J28,"Y")+COUNTIF(G28:J28,"N/A")=4,"Bronze",(COUNTIF(G28:J28,"Y")+COUNTIF(G28:J28,"N/A"))<4,"Single Use"))} -> Single Use
A29: Example | B29: 4 | C29: Example | D29: Contractor 6 | E29: 4A109 | F29: 30 | G29: N | H29: N/A | I29: N/A | J29: N/A | K29: N | L29: N | M29: N/A | N29: N | O29: N | P29: N | Q29: {=IF(COUNTA(G29:P29)=0,"",_xlfn.IFS((COUNTIF(G29:P29,"Y")+COUNTIF(G29:P29,"N/A"))=10,"Gold",(COUNTIF(G29:N29,"Y")+COUNTIF(G29:N29,"N/A"))=8,"Silver",COUNTIF(G29:J29,"Y")+COUNTIF(G29:J29,"N/A")=4,"Bronze",(COUNTIF(G29:J29,"Y")+COUNTIF(G29:J29,"N/A"))<4,"Single Use"))} -> Single Use
Q30: {=IF(COUNTA(G30:P30)=0,"",_xlfn.IFS((COUNTIF(G30:P30,"Y")+COUNTIF(G30:P30,"N/A"))=10,"Gold",(COUNTIF(G30:N30,"Y")+COUNTIF(G30:N30,"N/A"))=8,"Silver",COUNTIF(G30:J30,"Y")+COUNTIF(G30:J30,"N/A")=4,"Bronze",(COUNTIF(G30:J30,"Y")+COUNTIF(G30:J30,"N/A"))<4,"Single Use"))}
Q31: {=IF(COUNTA(G31:P31)=0,"",_xlfn.IFS((COUNTIF(G31:P31,"Y")+COUNTIF(G31:P31,"N/A"))=10,"Gold",(COUNTIF(G31:N31,"Y")+COUNTIF(G31:N31,"N/A"))=8,"Silver",COUNTIF(G31:J31,"Y")+COUNTIF(G31:J31,"N/A")=4,"Bronze",(COUNTIF(G31:J31,"Y")+COUNTIF(G31:J31,"N/A"))<4,"Single Use"))}
Q32: {=IF(COUNTA(G32:P32)=0,"",_xlfn.IFS((COUNTIF(G32:P32,"Y")+COUNTIF(G32:P32,"N/A"))=10,"Gold",(COUNTIF(G32:N32,"Y")+COUNTIF(G32:N32,"N/A"))=8,"Silver",COUNTIF(G32:J32,"Y")+COUNTIF(G32:J32,"N/A")=4,"Bronze",(COUNTIF(G32:J32,"Y")+COUNTIF(G32:J32,"N/A"))<4,"Single Use"))}
Q33: {=IF(COUNTA(G33:P33)=0,"",_xlfn.IFS((COUNTIF(G33:P33,"Y")+COUNTIF(G33:P33,"N/A"))=10,"Gold",(COUNTIF(G33:N33,"Y")+COUNTIF(G33:N33,"N/A"))=8,"Silver",COUNTIF(G33:J33,"Y")+COUNTIF(G33:J33,"N/A")=4,"Bronze",(COUNTIF(G33:J33,"Y")+COUNTIF(G33:J33,"N/A"))<4,"Single Use"))}
Q34: {=IF(COUNTA(G34:P34)=0,"",_xlfn.IFS((COUNTIF(G34:P34,"Y")+COUNTIF(G34:P34,"N/A"))=10,"Gold",(COUNTIF(G34:N34,"Y")+COUNTIF(G34:N34,"N/A"))=8,"Silver",COUNTIF(G34:J34,"Y")+COUNTIF(G34:J34,"N/A")=4,"Bronze",(COUNTIF(G34:J34,"Y")+COUNTIF(G34:J34,"N/A"))<4,"Single Use"))}
Q35: {=IF(COUNTA(G35:P35)=0,"",_xlfn.IFS((COUNTIF(G35:P35,"Y")+COUNTIF(G35:P35,"N/A"))=10,"Gold",(COUNTIF(G35:N35,"Y")+COUNTIF(G35:N35,"N/A"))=8,"Silver",COUNTIF(G35:J35,"Y")+COUNTIF(G35:J35,"N/A")=4,"Bronze",(COUNTIF(G35:J35,"Y")+COUNTIF(G35:J35,"N/A"))<4,"Single Use"))}
Q36: {=IF(COUNTA(G36:P36)=0,"",_xlfn.IFS((COUNTIF(G36:P36,"Y")+COUNTIF(G36:P36,"N/A"))=10,"Gold",(COUNTIF(G36:N36,"Y")+COUNTIF(G36:N36,"N/A"))=8,"Silver",COUNTIF(G36:J36,"Y")+COUNTIF(G36:J36,"N/A")=4,"Bronze",(COUNTIF(G36:J36,"Y")+COUNTIF(G36:J36,"N/A"))<4,"Single Use"))}
Q37: {=IF(COUNTA(G37:P37)=0,"",_xlfn.IFS((COUNTIF(G37:P37,"Y")+COUNTIF(G37:P37,"N/A"))=10,"Gold",(COUNTIF(G37:N37,"Y")+COUNTIF(G37:N37,"N/A"))=8,"Silver",COUNTIF(G37:J37,"Y")+COUNTIF(G37:J37,"N/A")=4,"Bronze",(COUNTIF(G37:J37,"Y")+COUNTIF(G37:J37,"N/A"))<4,"Single Use"))}
Q38: {=IF(COUNTA(G38:P38)=0,"",_xlfn.IFS((COUNTIF(G38:P38,"Y")+COUNTIF(G38:P38,"N/A"))=10,"Gold",(COUNTIF(G38:N38,"Y")+COUNTIF(G38:N38,"N/A"))=8,"Silver",COUNTIF(G38:J38,"Y")+COUNTIF(G38:J38,"N/A")=4,"Bronze",(COUNTIF(G38:J38,"Y")+COUNTIF(G38:J38,"N/A"))<4,"Single Use"))}
Q39: {=IF(COUNTA(G39:P39)=0,"",_xlfn.IFS((COUNTIF(G39:P39,"Y")+COUNTIF(G39:P39,"N/A"))=10,"Gold",(COUNTIF(G39:N39,"Y")+COUNTIF(G39:N39,"N/A"))=8,"Silver",COUNTIF(G39:J39,"Y")+COUNTIF(G39:J39,"N/A")=4,"Bronze",(COUNTIF(G39:J39,"Y")+COUNTIF(G39:J39,"N/A"))<4,"Single Use"))}
Q40: {=IF(COUNTA(G40:P40)=0,"",_xlfn.IFS((COUNTIF(G40:P40,"Y")+COUNTIF(G40:P40,"N/A"))=10,"Gold",(COUNTIF(G40:N40,"Y")+COUNTIF(G40:N40,"N/A"))=8,"Silver",COUNTIF(G40:J40,"Y")+COUNTIF(G40:J40,"N/A")=4,"Bronze",(COUNTIF(G40:J40,"Y")+COUNTIF(G40:J40,"N/A"))<4,"Single Use"))}
Q41: {=IF(COUNTA(G41:P41)=0,"",_xlfn.IFS((COUNTIF(G41:P41,"Y")+COUNTIF(G41:P41,"N/A"))=10,"Gold",(COUNTIF(G41:N41,"Y")+COUNTIF(G41:N41,"N/A"))=8,"Silver",COUNTIF(G41:J41,"Y")+COUNTIF(G41:J41,"N/A")=4,"Bronze",(COUNTIF(G41:J41,"Y")+COUNTIF(G41:J41,"N/A"))<4,"Single Use"))}
... Q802: {=IF(COUNTA(G802:P802)=0,"",_xlfn.IFS((COUNTIF(G802:P802,"Y")+COUNTIF(G802:P802,"N/A"))=10,"Gold",(COUNTIF(G802:N802,"Y")+COUNTIF(G802:N802,"N/A"))=8,"Silver",COUNTIF(G802:J802,"Y")+COUNTIF(G802:J802,"N/A")=4,"Bronze",(COUNTIF(G802:J802,"Y")+COUNTIF(G802:J802,"N/A"))<4,"Single Use"))}

Sheet Dashboard
B2: Better Stands - Onsite Assesment Dashboard
N14: `

Sheet Dashboard 
B2: Better Stands - Onsite Assessment Dashboard
B6: Event Name:
E10: M2 of Single Use: | G10: =Tables!C5 -> 93
E12: Single Use M2 as a % of total space-only/raw space | G12: =Tables!D5 -> 0.17919075
E18: M2 | G18: % | I18: # of stands
C20: M2 of Single Use: | E20: =Tables!C5 -> 93 | G20: =Tables!D5 -> 0.17919075 | I20: =Tables!E5 -> 6
C22: M2 of Bronze: | E22: =Tables!C6 -> 187 | G22: =Tables!D6 -> 0.36030829 | I22: =Tables!E6 -> 4
C24: M2 of Silver: | E24: =Tables!C7 -> 123 | G24: =Tables!D7 -> 0.23699422 | I24: =Tables!E7 -> 4
C26: M2 of Gold: | E26: =Tables!C8 -> 116 | G26: =Tables!D8 -> 0.22350674 | I26: =Tables!E8 -> 4
E30: Key Indicators of progress

Sheet Analysis
C1: Better Stands - Onsite Assesment Analysis
A4: 1 | B4: Data Quality
B6: Count of Duplicated Stand Numbers | H6: {=IFERROR(ROWS(_xlfn.UNIQUE(_xlfn._xlws.FILTER(On_Site_Check[Stand Number],COUNTIF(On_Site_Check[Stand Number],On_Site_Check[Stand Number])>1))),"No Duplicates")} -> 4
B7: Missing Data Points (10 point checklist) | H7: =SUM(Tables!C38:C47) -> 5
B8: How many stand space are not numbers (e.g. letters) | H8: =COUNTA(On_Site_Check[Total Stand Size M2]) - COUNT(On_Site_Check[Total Stand Size M2]) -> 0
A12: 2 | B12: Basic Facts
B14: Number of Stands | H14: =COUNTA(On_Site_Check[Stand Number]) -> 18
B15: Total space of Stands (M2) | H15: =SUM(On_Site_Check[Total Stand Size M2]) -> 519
B16: Average Stand Space (M2) | H16: =H15/H14 -> 28.833333
B17: Percentage of Single Use stands per net M2 | H17: =IFERROR(Tables!C5/'Onsite Assessment'!H3, " Please fill in the Net m2 on the Onsite Reporting tab (Cell H2)") -> Please fill in the Net m2 on the Onsite Reporting tab (Cell H2)
A21: 3 | B21: Do you know the make-up of your space-only/raw space stands?
B58: This shows you the number of single use stands at your show | P58: And the percentage they make up of the space only/raw stands
A104: 4 | B104: Out of the three stand sizes below, where could you have the most impact if you targeted those sized exhibitors?
B105: Looking at 3 types of stands: between 0-40 m2, 41-99 m2, 100+m2
A194: 5 | B194: Which contractors could you have the most impact by targeting their stands?
B196: Refresh the Pivot Tables in E37 and K37 on the Tables tab

Sheet Tables
C1: Better Stands - Onsite Assesment Tables
B3: Floor Space & Counts by Stand Type | J3: % of Net Space
B4: Stand Rating | C4: Floor Space Total | D4: % of Total Floor Space | E4: Number of Stands | F4: % of Total Stands | J4: Stand Rating | K4: Floor Space Total | L4: % of Net
B5: Single Use | C5: =SUMIF(On_Site_Check[Exhibitor Result], "Single Use", On_Site_Check[Total Stand Size M2]) -> 93 | D5: =C5/$C$9 -> 0.17919075 | E5: =COUNTIF(On_Site_Check[Exhibitor Result], "Single Use") -> 6 | F5: =E5/$E$9 -> 0.33333333 | J5: Single Use | K5: =SUMIF(On_Site_Check[Exhibitor Result], "Single Use", On_Site_Check[Total Stand Size M2]) -> 93 | L5: =K5/'Onsite Assessment'!$H$3 -> #DIV/0!
B6: Bronze | C6: =SUMIF(On_Site_Check[Exhibitor Result], "Bronze", On_Site_Check[Total Stand Size M2]) -> 187 | D6: =C6/$C$9 -> 0.36030829 | E6: =COUNTIF(On_Site_Check[Exhibitor Result], "Bronze") -> 4 | F6: =E6/$E$9 -> 0.22222222 | J6: Reusable | K6: =SUM(C6,C7,C8) -> 426 | L6: =K6/'Onsite Assessment'!$H$3 -> #DIV/0!
B7: Silver | C7: =SUMIF(On_Site_Check[Exhibitor Result], "Silver", On_Site_Check[Total Stand Size M2]) -> 123 | D7: =C7/$C$9 -> 0.23699422 | E7: =COUNTIF(On_Site_Check[Exhibitor Result], "Silver") -> 4 | F7: =E7/$E$9 -> 0.22222222 | J7: Shell Scheme | K7: ='Onsite Assessment'!H3-SUM(Tables!K5:K6) -> -519 | L7: =K7/'Onsite Assessment'!$H$3 -> #DIV/0!
B8: Gold | C8: =SUMIF(On_Site_Check[Exhibitor Result], "Gold", On_Site_Check[Total Stand Size M2]) -> 116 | D8: =C8/$C$9 -> 0.22350674 | E8: =COUNTIF(On_Site_Check[Exhibitor Result], "Gold") -> 4 | F8: =E8/$E$9 -> 0.22222222
B9: Total | C9: =SUM(C5:C8) -> 519 | D9: =SUM(D5:D8) -> 1 | E9: =SUM(E5:E8) -> 18 | F9: =SUM(F5:F8) -> 1
B13: Stand Size Analysis
B15: Floor Space by Stand Type & Stand Sizes | K15: % Floor Space by Stand Type & Stand Sizes
B16: Stand Size | C16: Single Use | D16: Bronze | E16: Silver | F16: Gold | G16: Total | K16: Stand Size | L16: Single Use | M16: Bronze | N16: Silver | O16: Gold | P16: Total
B17: 0-18 | C17: =SUMIFS(On_Site_Check[Total Stand Size M2], On_Site_Check[Total Stand Size M2], ">0",On_Site_Check[Total Stand Size M2], "<18.5", On_Site_Check[Exhibitor Result], "Single Use") -> 44 | D17: =SUMIFS(On_Site_Check[Total Stand Size M2], On_Site_Check[Total Stand Size M2], ">0",On_Site_Check[Total Stand Size M2], "<18.5", On_Site_Check[Exhibitor Result], "Bronze") -> 0 | E17: =SUMIFS(On_Site_Check[Total Stand Size M2], On_Site_Check[Total Stand Size M2], ">0",On_Site_Check[Total Stand Size M2], "<18.5", On_Site_Check[Exhibitor Result], "Silver") -> 10 | F17: =SUMIFS(On_Site_Check[Total Stand Size M2], On_Site_Check[Total Stand Size M2], ">0",On_Site_Check[Total Stand Size M2], "<18.5", On_Site_Check[Exhibitor Result], "Gold") -> 10 | G17: =SUM(C17:F17) -> 64 | K17: 0-18 | L17: =C17/$G$17 -> 0.6875 | M17: =D17/$G$17 -> 0 | N17: =E17/$G$17 -> 0.15625 | O17: =F17/$G$17 -> 0.15625 | P17: =SUM(L17:O17) -> 1
B18: 19-36 | C18: =SUMIFS(On_Site_Check[Total Stand Size M2], On_Site_Check[Total Stand Size M2], ">=18.5",On_Site_Check[Total Stand Size M2], "<36.5", On_Site_Check[Exhibitor Result], "Single Use") -> 49 | D18: =SUMIFS(On_Site_Check[Total Stand Size M2], On_Site_Check[Total Stand Size M2], ">=18.5",On_Site_Check[Total Stand Size M2], "<36.5", On_Site_Check[Exhibitor Result], "Bronze") -> 49 | E18: =SUMIFS(On_Site_Check[Total Stand Size M2], On_Site_Check[Total Stand Size M2], ">=18.5",On_Site_Check[Total Stand Size M2], "<36.5", On_Site_Check[Exhibitor Result], "Silver") -> 19 | F18: =SUMIFS(On_Site_Check[Total Stand Size M2], On_Site_Check[Total Stand Size M2], ">=18.5",On_Site_Check[Total Stand Size M2], "<36.5", On_Site_Check[Exhibitor Result], "Gold") -> 19 | G18: =SUM(C18:F18) -> 136 | K18: 19-36 | L18: =C18/$G$18 -> 0.36029412 | M18: =D18/$G$18 -> 0.36029412 | N18: =E18/$G$18 -> 0.13970588 | O18: =F18/$G$18 -> 0.13970588 | P18: =SUM(L18:O18) -> 1
B19: 37-99 | C19: =SUMIFS(On_Site_Check[Total Stand Size M2], On_Site_Check[Total Stand Size M2], ">=36.5",On_Site_Check[Total Stand Size M2], "<99.5", On_Site_Check[Exhibitor Result], "Single Use") -> 0 | D19: =SUMIFS(On_Site_Check[Total Stand Size M2], On_Site_Check[Total Stand Size M2], ">=36.5",On_Site_Check[Total Stand Size M2], "<99.5", On_Site_Check[Exhibitor Result], "Bronze" ) -> 38 | E19: =SUMIFS(On_Site_Check[Total Stand Size M2], On_Site_Check[Total Stand Size M2], ">=36.5",On_Site_Check[Total Stand Size M2], "<99.5", On_Site_Check[Exhibitor Result], "Silver" ) -> 94 | F19: =SUMIFS(On_Site_Check[Total Stand Size M2], On_Site_Check[Total Stand Size M2], ">=36.5",On_Site_Check[Total Stand Size M2], "<99.5", On_Site_Check[Exhibitor Result], "Gold" ) -> 87 | G19: =SUM(C19:F19) -> 219 | K19: 37-99 | L19: =C19/$G$19 -> 0 | M19: =D19/$G$19 -> 0.17351598 | N19: =E19/$G$19 -> 0.42922374 | O19: =F19/$G$19 -> 0.39726027 | P19: =SUM(L19:O19) -> 1
B20: 100+ | C20: =SUMIFS(On_Site_Check[Total Stand Size M2], On_Site_Check[Total Stand Size M2], ">=99.5", On_Site_Check[Exhibitor Result], "Single Use") -> 0 | D20: =SUMIFS(On_Site_Check[Total Stand Size M2], On_Site_Check[Total Stand Size M2], ">=99.5", On_Site_Check[Exhibitor Result], "Bronze" ) -> 100 | E20: =SUMIFS(On_Site_Check[Total Stand Size M2], On_Site_Check[Total Stand Size M2], ">=99.5", On_Site_Check[Exhibitor Result], "Silver" ) -> 0 | F20: =SUMIFS(On_Site_Check[Total Stand Size M2], On_Site_Check[Total Stand Size M2], ">=99.5", On_Site_Check[Exhibitor Result], "Gold" ) -> 0 | G20: =SUM(C20:F20) -> 100 | K20: 100+ | L20: =C20/$G$20 -> 0 | M20: =D20/$G$20 -> 1 | N20: =E20/$G$20 -> 0 | O20: =F20/$G$20 -> 0 | P20: =SUM(L20:O20) -> 1
B21: Total | C21: =SUM(C17:C20) -> 93 | D21: =SUM(D17:D20) -> 187 | E21: =SUM(E17:E20) -> 123 | F21: =SUM(F17:F20) -> 116 | G21: =SUM(C21:F21) -> 519
B24: Counts by Stand Type & Stand Sizes | K24: % Counts by Stand Type & Stand Sizes
B25: Stand Size | C25: Single Use | D25: Bronze | E25: Silver | F25: Gold | G25: Total | K25: Stand Size | L25: Single Use | M25: Bronze | N25: Silver | O25: Gold | P25: Total
B26: 0-18 | C26: =COUNTIFS(On_Site_Check[Total Stand Size M2], ">0",On_Site_Check[Total Stand Size M2], "<18.5", On_Site_Check[Exhibitor Result], "Single Use") -> 4 | D26: =COUNTIFS(On_Site_Check[Total Stand Size M2], ">0",On_Site_Check[Total Stand Size M2], "<18.5", On_Site_Check[Exhibitor Result], "Bronze") -> 0 | E26: =COUNTIFS(On_Site_Check[Total Stand Size M2], ">0",On_Site_Check[Total Stand Size M2], "<18.5", On_Site_Check[Exhibitor Result], "Silver") -> 1 | F26: =COUNTIFS(On_Site_Check[Total Stand Size M2], ">0",On_Site_Check[Total Stand Size M2], "<18.5", On_Site_Check[Exhibitor Result], "Gold") -> 1 | G26: =SUM(C26:F26) -> 6 | K26: 0-18 | L26: =C26/$G$26 -> 0.66666667 | M26: =D26/$G$26 -> 0 | N26: =E26/$G$26 -> 0.16666667 | O26: =F26/$G$26 -> 0.16666667 | P26: =SUM(L26:O26) -> 1
B27: 19-36 | C27: =COUNTIFS(On_Site_Check[Total Stand Size M2], ">=18.5",On_Site_Check[Total Stand Size M2], "<36.5", On_Site_Check[Exhibitor Result], "Single Use") -> 2 | D27: =COUNTIFS(On_Site_Check[Total Stand Size M2], ">=18.5",On_Site_Check[Total Stand Size M2], "<36.5", On_Site_Check[Exhibitor Result], "Bronze") -> 2 | E27: =COUNTIFS(On_Site_Check[Total Stand Size M2], ">=18.5",On_Site_Check[Total Stand Size M2], "<36.5", On_Site_Check[Exhibitor Result], "Silver") -> 1 | F27: =COUNTIFS( On_Site_Check[Total Stand Size M2], ">=18.5",On_Site_Check[Total Stand Size M2], "<36.5", On_Site_Check[Exhibitor Result], "Gold") -> 1 | G27: =SUM(C27:F27) -> 6 | K27: 19-36 | L27: =C27/$G$27 -> 0.33333333 | M27: =D27/$G$27 -> 0.33333333 | N27: =E27/$G$27 -> 0.16666667 | O27: =F27/$G$27 -> 0.16666667 | P27: =SUM(L27:O27) -> 1
B28: 37-99 | C28: =COUNTIFS(On_Site_Check[Total Stand Size M2], ">=36.5",On_Site_Check[Total Stand Size M2], "<99.5", On_Site_Check[Exhibitor Result], "Single Use") -> 0 | D28: =COUNTIFS(On_Site_Check[Total Stand Size M2], ">=36.5",On_Site_Check[Total Stand Size M2], "<99.5", On_Site_Check[Exhibitor Result], "Bronze" ) -> 1 | E28: =COUNTIFS(On_Site_Check[Total Stand Size M2], ">=36.5",On_Site_Check[Total Stand Size M2], "<99.5", On_Site_Check[Exhibitor Result], "Silver" ) -> 2 | F28: =COUNTIFS(On_Site_Check[Total Stand Size M2], ">=36.5",On_Site_Check[Total Stand Size M2], "<99.5", On_Site_Check[Exhibitor Result], "Gold" ) -> 2 | G28: =SUM(C28:F28) -> 5 | K28: 37-99 | L28: =C28/$G$28 -> 0 | M28: =D28/$G$28 -> 0.2 | N28: =E28/$G$28 -> 0.4 | O28: =F28/$G$28 -> 0.4 | P28: =SUM(L28:O28) -> 1
B29: 100+ | C29: =COUNTIFS(On_Site_Check[Total Stand Size M2], ">=99.5", On_Site_Check[Exhibitor Result], "Single Use") -> 0 | D29: =COUNTIFS(On_Site_Check[Total Stand Size M2], ">=99.5", On_Site_Check[Exhibitor Result], "Bronze" ) -> 1 | E29: =COUNTIFS(On_Site_Check[Total Stand Size M2], ">=99.5", On_Site_Check[Exhibitor Result], "Silver" ) -> 0 | F29: =COUNTIFS(On_Site_Check[Total Stand Size M2], ">=99.5", On_Site_Check[Exhibitor Result], "Gold" ) -> 0 | G29: =SUM(C29:F29) -> 1 | K29: 100+ | L29: =C29/$G$29 -> 0 | M29: =D29/$G$29 -> 1 | N29: =E29/$G$29 -> 0 | O29: =F29/$G$29 -> 0 | P29: =SUM(L29:O29) -> 1
B30: Total | C30: =SUM(C26:C29) -> 6 | D30: =SUM(D26:D29) -> 4 | E30: =SUM(E26:E29) -> 4 | F30: =SUM(F26:F29) -> 4 | G30: =SUM(C30:F30) -> 18
B35: Other Analysis
E36: Please Refresh (right click inside table) | K36: Please Refresh (right click inside table)
B37: Feature | C37: Number of Missing Features | E37: Contractor Name | F37: Disposable Stand Space (m2) | K37: Contractor Name | L37: Number of Disposable Stands
A38: 1 | B38: Stand Structure & Walls (e.g. Structure or framework of the stand, walls, panels for meeting rooms, backdrop.) | C38: =COUNTIFS(On_Site_Check[Stand Number], "<>",On_Site_Check[Stand Structure & Walls (e.g. Structure or framework of the stand, walls, panels for meeting rooms, backdrop.)], "") -> 1 | E38: Contractor 2 | F38: 33 | K38: Contractor 2 | L38: 2
A39: 2 | B39: Platform / Raised Flooring (Structure of flooring excluding surface covering, e.g. carpet) | C39: =COUNTIFS(On_Site_Check[Stand Number], "<>",On_Site_Check[Platform / Raised Flooring (Structure of flooring excluding surface covering, e.g. carpet)], "") -> 0 | E39: Contractor 6 | F39: 30 | K39: Contractor 5 | L39: 1
A40: 3 | B40: Furniture & Equipment (Counters, chairs, tables, sofa, coffee table, cabinet, flyer stand, LED walls, TV, AV equipment etc.) | C40: =COUNTIFS(On_Site_Check[Stand Number], "<>",On_Site_Check[Furniture & Equipment (Counters, chairs, tables, sofa, coffee table, cabinet, flyer stand, LED walls, TV, AV equipment etc.)], "") -> 0 | E40: Contractor 5 | F40: 10 | K40: Contractor 6 | L40: 1
A41: 4 | B41: Lighting (e.g. All kinds of lightings in the stand and showcases) | C41: =COUNTIFS(On_Site_Check[Stand Number], "<>",On_Site_Check[Lighting (e.g. All kinds of lightings in the stand and showcases)], "") -> 0 | E41: Contractor 3 | F41: 10 | K41: Contractor 3 | L41: 1
A42: 5 | B42: Fascia and/or Overhead Signage (Overhead signage or branding, Fascia, company logo on top of the stand structure) | C42: =COUNTIFS(On_Site_Check[Stand Number], "<>",On_Site_Check[Fascia and/or Overhead Signage (Overhead signage or branding, Fascia, company logo on top of the stand structure)], "") -> 0 | E42: Contractor 4 | F42: 10 | K42: Contractor 4 | L42: 1
A43: 6 | B43: Rigged Structure (Any rigged structure including lighting gantries or other structural elements.) | C43: =COUNTIFS(On_Site_Check[Stand Number], "<>",On_Site_Check[Rigged Structure (Any rigged structure including lighting gantries or other structural elements.)], "") -> 0 | E43: Grand Total | F43: 93 | K43: Grand Total | L43: 6
A44: 7 | B44: Ceiling (Any form of ceiling e.g. fabric ceiling, solid ceiling for lights or stand support | C44: =COUNTIFS(On_Site_Check[Stand Number], "<>",On_Site_Check[Ceiling (Any form of ceiling e.g. fabric ceiling, solid ceiling for lights or stand support], "") -> 0
A45: 8 | B45: Display Facilities (Built-in or Detachable product display cabinets, Lightboxes etc) | C45: =COUNTIFS(On_Site_Check[Stand Number], "<>",On_Site_Check[Display Facilities (Built-in or Detachable product display cabinets, Lightboxes etc)], "") -> 0
A46: 9 | B46: Flooring (e.g. carpeting, floor tiling, HDF coverings) | C46: =COUNTIFS(On_Site_Check[Stand Number], "<>",On_Site_Check[Flooring (e.g. carpeting, floor tiling, HDF coverings)], "") -> 4
A47: 10 | B47: Graphics & Decorative Items (e.g. Stand graphics that are wall mounted or floor standing not overhead and any other decorative items such as plants & flowers, models or ornaments) | C47: =COUNTIFS(On_Site_Check[Stand Number], "<>",On_Site_Check[Graphics & Decorative Items (e.g. Stand graphics that are wall mounted or floor standing not overhead and any other decorative items such as plants & flowers, models or ornaments)], "") -> 0
